BEGIN:VCALENDAR
VERSION:2.0
PRODID:-//chikkutakku.com//RDFCal 1.0//EN
X-WR-CALDESC:GoogleカレンダーやiCalendar形式情報を共有シェ
 アしましょう。近所のイベントから全国のイベントま
 で今日のイベント検索やスケジュールを決めるならち
 っくたっく
X-WR-CALNAME:ちっくたっく
X-WR-TIMEZONE:UTC
BEGIN:VEVENT
SUMMARY:10:00北二區表揚模範父母親及松柏會員/13:00報到 13:
 30第三次區務會議暨選舉
DTSTART;VALUE=DATE:20260424
DTEND;VALUE=DATE:20260425
UID:808384870158
DESCRIPTION:10:00北二區表揚模範父母親及松柏會員/13:00報到
  13:30第三次區務會議暨選舉
LOCATION:天悅婚宴會館(新北市永和區成功路80號B1)
END:VEVENT
END:VCALENDAR
