BEGIN:VCALENDAR
VERSION:2.0
PRODID:-//chikkutakku.com//RDFCal 1.0//EN
X-WR-CALDESC:GoogleカレンダーやiCalendar形式情報を共有シェ
 アしましょう。近所のイベントから全国のイベントま
 で今日のイベント検索やスケジュールを決めるならち
 っくたっく
X-WR-CALNAME:ちっくたっく
X-WR-TIMEZONE:UTC
BEGIN:VEVENT
SUMMARY:現代相居飛車ってこういうこと　角換わり・横歩
 取り編
DTSTART;VALUE=DATE:20260422
DTEND;VALUE=DATE:20260423
UID:810286701148
DESCRIPTION:2026-04-23現代相居飛車ってこういうこと　角換
 わり・横歩取り編斎藤明日斗/岡部怜央マイナビ出版
LOCATION:
END:VEVENT
END:VCALENDAR
