BEGIN:VCALENDAR
VERSION:2.0
PRODID:-//chikkutakku.com//RDFCal 1.0//EN
X-WR-CALDESC:GoogleカレンダーやiCalendar形式情報を共有シェ
 アしましょう。近所のイベントから全国のイベントま
 で今日のイベント検索やスケジュールを決めるならち
 っくたっく
X-WR-CALNAME:ちっくたっく
X-WR-TIMEZONE:UTC
BEGIN:VEVENT
SUMMARY:にゃん喫茶るべーる
DTSTART;VALUE=DATE-TIME:20260422T130000Z
DTEND;VALUE=DATE-TIME:20260422T140000Z
UID:828275689992
DESCRIPTION:【イベント主催者】\n　ぱしたろう\n【イベン
 ト内容】\n　ここはネコちゃん達が経営する喫茶店。。
 。\n\n自由気ままな猫ちゃんたちが喫茶店を営業？\nふ
 とした時にどこかへ行っちゃったり、注文したスイー
 ツと別のものが出てくること\nも・・・？\n\nあま〜い
 スイーツを食べながら優雅な時間を過ごしませんか？\n
 \n毎月2日22日の22:00~23:00に営業中\nかわいい猫ちゃん達
 とお話してみたい方はぜひ！！\n【イベントジャンル】
 \n　店舗系イベント\, ロールプレイ\, 定期イベント\n【
 参加条件（モデル、人数制限など）】\n　2インスタン
 スで開催・15人まで\n【参加方法】\n　グループインス
 タンスにて開催\nグループID（LEVERT.0478）へJoin！\n【備
 考】\n　https://x.com/cafe_leVERT_VRC
LOCATION:
END:VEVENT
END:VCALENDAR
