BEGIN:VCALENDAR
VERSION:2.0
PRODID:-//chikkutakku.com//RDFCal 1.0//EN
X-WR-CALDESC:GoogleカレンダーやiCalendar形式情報を共有シェ
 アしましょう。近所のイベントから全国のイベントま
 で今日のイベント検索やスケジュールを決めるならち
 っくたっく
X-WR-CALNAME:ちっくたっく
X-WR-TIMEZONE:UTC
BEGIN:VEVENT
SUMMARY:【宮城】YOPiTTE、MEILI CHARM@LANDMARKER vol.5
DTSTART;VALUE=DATE-TIME:20260429T041000Z
DTEND;VALUE=DATE-TIME:20260429T043500Z
UID:829059947159
DESCRIPTION:LANDMARKER vol.5\n\n日程： 2026年4月29日(水・祝)\n会
 場： 仙台ROCKATERIA\n時間： 開場 12:00 / 開演 12:30\n\n出演
 ： bibibibi / Crown Ash / Fio Chevaliele / i_andscape. / MEILI CHARM / 
 凛々しくも臨界に咲くARTERIA / YOPiTTE / and more...\n\nhttps://t
 -dv.com/landmarker5\n\n12:30- i_andscape.\n12:45- bibibibi\n13:10- YOPiTTE
 \n13:35- MEILI CHARM\n14:00- （調整）\n14:05- Crown Ash\n14:30- Fio C
 hevaliele\n14:55- ？？？\n15:10- 凛々しくも臨界に咲くARTERIA\
 n15:40- i_andscape.\n16:10- （物販準備）\n16:20-18:20 （終演後
 物販）
LOCATION:ROCKATERIA\, 日本、〒981-0811 宮城県仙台市青葉区一
 番町２丁目３−３３ 第八藤栄サンモール一番町ビルB1F
END:VEVENT
END:VCALENDAR
