BEGIN:VCALENDAR
VERSION:2.0
PRODID:-//chikkutakku.com//RDFCal 1.0//EN
X-WR-CALDESC:GoogleカレンダーやiCalendar形式情報を共有シェ
 アしましょう。近所のイベントから全国のイベントま
 で今日のイベント検索やスケジュールを決めるならち
 っくたっく
X-WR-CALNAME:ちっくたっく
X-WR-TIMEZONE:UTC
BEGIN:VEVENT
SUMMARY:オムライス専門メイドカフェ『OmuChat』
DTSTART;VALUE=DATE-TIME:20260420T133000Z
DTEND;VALUE=DATE-TIME:20260420T144000Z
UID:831133030424
DESCRIPTION:【イベント主催者】\n　まっしゅ_synth\n【イベ
 ント内容】\n　ここは、賑やかなショッピングモールの
 一角に現れた幻想の入口——\n\nオムライス専門メイド
 コンカフェ『OmuChat』。\n\n＼ᐠ ハッピーオムラ〜イス 
 ᐟ／\n旅人の皆さま、ようこそ『マッシュ・キングダム
 』へ！\nモールの喧騒を抜けて扉を開けると、オムライ
 スが大好きな王様が統治する幸せな王国へ。\n\n今日は
 年に一度の『オムライスフェスティバル』開催日！\nふ
 わふわの卵が舞い、ケチャップの甘い香りが満ちる中
 、\nこの日にオムライスを食べると一年の幸福が約束さ
 れるってウワサ…♡\n\n◤◢◤◢◤◢◤◢◤◢◤◢◤◢\
 n\nメニューは『オムライス』のみ\n\n◤◢◤◢◤◢◤◢
 ◤◢◤◢◤◢\n\n\n可愛いメイドさんたちが、あなただ
 けのオムライスに素敵なケチャアートを描いてお届け
 ！\nおしゃべりしたり、たくさん食べたり、祭りを存分
 に楽しんでくださいね！\n\n遠くからお越しの旅人のご
 主人様、お嬢様に、心温まるおもてなしを。\n\nご来店
 心よりお待ちしております〜！\n【イベントジャンル】
 \n　店舗系イベント\, 定期イベント\n【参加条件（モデ
 ル、人数制限など）】\n　★イベント注意事項★\n・写
 真撮影はOKですが、無断での映像撮影や配信などはご遠
 慮ください \n・キャストへの過度な要求の禁止\n・お客
 様からキャストへ触れる行為の禁止 \n・過度なセクハ
 ラ発言やキャストが嫌がる行為の禁止 \n・NSFWに該当す
 る行為などの禁止 \n・イベント中のキャストへのフレ
 ンド申請は禁止 \n・50MB以下のアバターをご使用くださ
 い \n・過度なパーティクルや公序良俗に反するアバタ
 ーなどのご使用はお控えください \n・イベント進行の
 妨害、他のお客様へご迷惑となるような行為などはイ
 ベントから退店していただく場合がございます。\n【参
 加方法】\n　22:30に「まっしゅ_ev」にリクインを1回だけ
 お願いいたします。\nhttps://vrchat.com/home/user/usr_39af7e86-92d
 f-4461-84c1-c880db829dff\n\nフレンド申請はお早めにお願いい
 たします。\n【備考】\n　OmuChat X(Twitter)イベント公式ア
 カウント\nhttps://x.com/OmuChat_VR\nハッシュタグ：#VRCおむち
 ゃ
LOCATION:
END:VEVENT
END:VCALENDAR
