BEGIN:VCALENDAR
VERSION:2.0
PRODID:-//chikkutakku.com//RDFCal 1.0//EN
X-WR-CALDESC:GoogleカレンダーやiCalendar形式情報を共有シェ
 アしましょう。近所のイベントから全国のイベントま
 で今日のイベント検索やスケジュールを決めるならち
 っくたっく
X-WR-CALNAME:ちっくたっく
X-WR-TIMEZONE:UTC
BEGIN:VEVENT
SUMMARY:愛知県立国府高等学校 様
DTSTART;VALUE=DATE-TIME:20260426T043000Z
DTEND;VALUE=DATE-TIME:20260426T063000Z
UID:831918754403
DESCRIPTION:第12回定期演奏会\n\n日時）2026/04/26(日) 13:30\n会
 場）豊川市文化会館大ホール\n曲目）想ひ麗し浄瑠璃姫
 の雫｜樽屋雅徳\nhttps://www.fostermusic.jp/products/detail/7473?utm
 _source=sns&utm_medium=x&utm_campaign=event\nほか
LOCATION:豊川市文化会館大ホール
END:VEVENT
END:VCALENDAR
