BEGIN:VCALENDAR
VERSION:2.0
PRODID:-//chikkutakku.com//RDFCal 1.0//EN
X-WR-CALDESC:GoogleカレンダーやiCalendar形式情報を共有シェ
 アしましょう。近所のイベントから全国のイベントま
 で今日のイベント検索やスケジュールを決めるならち
 っくたっく
X-WR-CALNAME:ちっくたっく
X-WR-TIMEZONE:UTC
BEGIN:VEVENT
SUMMARY:経堂 クレイジーラブ / 吉野ミユキ(Sax)カルテット
DTSTART;VALUE=DATE-TIME:20260521T103000Z
DTEND;VALUE=DATE-TIME:20260521T133000Z
UID:833152710330
DESCRIPTION:03-3425-9041\n\n吉野ミユキ(ts)　楠直孝(pf)　吉木
 稔(b)　三科律子(dr)\n\nhttps://www.jazzbar-crazylove.info/
LOCATION:Jazz Bar Crazy Love\, 日本、〒156-0052 東京都世田谷区
 経堂１丁目２２−１８
END:VEVENT
END:VCALENDAR
