BEGIN:VCALENDAR
VERSION:2.0
PRODID:-//chikkutakku.com//RDFCal 1.0//EN
X-WR-CALDESC:GoogleカレンダーやiCalendar形式情報を共有シェ
 アしましょう。近所のイベントから全国のイベントま
 で今日のイベント検索やスケジュールを決めるならち
 っくたっく
X-WR-CALNAME:ちっくたっく
X-WR-TIMEZONE:UTC
BEGIN:VEVENT
SUMMARY:【イベント初心者大歓迎】喫茶　『わんもーめん
 と』【umaru-sotoboriへJoin】
DTSTART;VALUE=DATE-TIME:20260424T120000Z
DTEND;VALUE=DATE-TIME:20260424T124500Z
UID:863294123737
DESCRIPTION:【イベント主催者】\n　umaru-sotobori\n【イベン
 ト内容】\n　不思議な森で迷子のあなたは1冊の本を手
 にします。恥ずかしがり屋な店長と能天気なバイトメ
 イドがお出迎え。小さな喫茶店でお食事やお屋敷の雰
 囲気をお楽しみください。\n【イベントジャンル】\n　
 店舗系イベント\n【参加条件（モデル、人数制限など）
 】\n　イベント初心者・デスクトップ・PCVR大歓迎！！\n
 　イベントの途中退室は可能です。\n【参加方法】\n　
 開始時間にumaru-sotoboriへJoin。インスタンスはFriend＋で
 す。事前にフレンド登録を勧めています。\n【備考】\n
 　
LOCATION:
END:VEVENT
END:VCALENDAR
