BEGIN:VCALENDAR
VERSION:2.0
PRODID:-//chikkutakku.com//RDFCal 1.0//EN
X-WR-CALDESC:GoogleカレンダーやiCalendar形式情報を共有シェ
 アしましょう。近所のイベントから全国のイベントま
 で今日のイベント検索やスケジュールを決めるならち
 っくたっく
X-WR-CALNAME:ちっくたっく
X-WR-TIMEZONE:UTC
BEGIN:VEVENT
SUMMARY:【注】ソマリと森の神様 #1 旅する親子 / #2 くさ
 びらと鬼の住処 / #3 ほら穴の底の海 / #4 叶える花と願
 う約束 / #5 揺蕩いの鳥 / #6 息の根はる花は鳥を仰ぐ / #7
  魔女に縋る足取り / #8 祈り語る出会いと絆 / #9 小さな
 日々の思い出 / #10 幼子と緑の砦 / #11 護る者と牙剥く者
  / #12 心繋ぎ合う親子
DTSTART;VALUE=DATE-TIME:20260419T190000Z
DTEND;VALUE=DATE-TIME:20260420T010000Z
UID:863622772613
DESCRIPTION: / #1 旅する親子 / #2 くさびらと鬼の住処 / #3 
 ほら穴の底の海 / #4 叶える花と願う約束 / #5 揺蕩いの
 鳥 / #6 息の根はる花は鳥を仰ぐ / #7 魔女に縋る足取り /
  #8 祈り語る出会いと絆 / #9 小さな日々の思い出 / #10 幼
 子と緑の砦 / #11 護る者と牙剥く者 / #12 心繋ぎ合う親子
  / https://abema.tv/channels/anime-live2/slots/8foGxUxt4suGaB リピート
 放送は 4/20(月) 16:00～ https://abema.tv/channels/anime-live2/slots/F
 CTA6Hs59Kkrrj (無料TS1週間)
LOCATION:アニメLIVE2
END:VEVENT
END:VCALENDAR
