BEGIN:VCALENDAR
VERSION:2.0
PRODID:-//chikkutakku.com//RDFCal 1.0//EN
X-WR-CALDESC:GoogleカレンダーやiCalendar形式情報を共有シェ
 アしましょう。近所のイベントから全国のイベントま
 で今日のイベント検索やスケジュールを決めるならち
 っくたっく
X-WR-CALNAME:ちっくたっく
X-WR-TIMEZONE:UTC
BEGIN:VEVENT
SUMMARY:実践！児童発達支援ガイド
DTSTART;VALUE=DATE:20260518
DTEND;VALUE=DATE:20260519
UID:873136764765
DESCRIPTION:2026-05-19実践！児童発達支援ガイド桑野 恵介/
 館農 幸恵日本評論社
LOCATION:
END:VEVENT
END:VCALENDAR
