BEGIN:VCALENDAR
VERSION:2.0
PRODID:-//chikkutakku.com//RDFCal 1.0//EN
X-WR-CALDESC:GoogleカレンダーやiCalendar形式情報を共有シェ
 アしましょう。近所のイベントから全国のイベントま
 で今日のイベント検索やスケジュールを決めるならち
 っくたっく
X-WR-CALNAME:ちっくたっく
X-WR-TIMEZONE:UTC
BEGIN:VEVENT
SUMMARY: Nerf Outings Madison (All Ages)
DTSTART;VALUE=DATE:20260426
DTEND;VALUE=DATE:20260427
UID:876335509045
DESCRIPTION: Nerf Outings Madison (All Ages)
LOCATION:Garner Park\, 333 S Rosa Rd\, Madison\, WI 53705\, USA
END:VEVENT
END:VCALENDAR
