BEGIN:VCALENDAR
VERSION:2.0
PRODID:-//chikkutakku.com//RDFCal 1.0//EN
X-WR-CALDESC:GoogleカレンダーやiCalendar形式情報を共有シェ
 アしましょう。近所のイベントから全国のイベントま
 で今日のイベント検索やスケジュールを決めるならち
 っくたっく
X-WR-CALNAME:ちっくたっく
X-WR-TIMEZONE:UTC
BEGIN:VEVENT
SUMMARY:プリキュアダンス練習会
DTSTART;VALUE=DATE-TIME:20260421T120000Z
DTEND;VALUE=DATE-TIME:20260421T130000Z
UID:880490548211
DESCRIPTION:【イベント主催者】\n　shiso_pa(シソっぱ)\n【イ
 ベント内容】\n　プリキュアのエンディングダンス動画
 を流しながら振り付けを練習する会です。\n【イベント
 ジャンル】\n　その他交流会\n【参加条件（モデル、人
 数制限など）】\n　俺はプリキュアになるぞ！の気持ち
 \n【参加方法】\n　ＶＲＣプリキュア雑談集会のgroup（ht
 tps://vrc.group/CURE.7497）に参加\nもしくはshiso_paにフレンド
 申請＆join\n【備考】\n　グループ＋で開催している都合
 上、主旨と関係ない人がjoinしてくる場合がありますの
 で、ご承知おき下さい。
LOCATION:
END:VEVENT
END:VCALENDAR
