BEGIN:VCALENDAR
VERSION:2.0
PRODID:-//chikkutakku.com//RDFCal 1.0//EN
X-WR-CALDESC:GoogleカレンダーやiCalendar形式情報を共有シェ
 アしましょう。近所のイベントから全国のイベントま
 で今日のイベント検索やスケジュールを決めるならち
 っくたっく
X-WR-CALNAME:ちっくたっく
X-WR-TIMEZONE:UTC
BEGIN:VEVENT
SUMMARY:赤坂 クラブエイト / 山崎美空(Vo)\, HANA(Vo)
DTSTART;VALUE=DATE-TIME:20260519T105000Z
DTEND;VALUE=DATE-TIME:20260519T142000Z
UID:885434681291
DESCRIPTION:03-6426-5380\n\n山崎美空(Vo)\nHANA(Vo)\n楠直孝(Pf)\nか
 わ島崇文(sax\, ba)\n\nhttps://club8.tokyo/
LOCATION:CLUB 8\, 日本、〒107-0052 東京都港区赤坂２丁目１
 ５−１２ パール赤坂ビル B1F
END:VEVENT
END:VCALENDAR
