BEGIN:VCALENDAR
VERSION:2.0
PRODID:-//chikkutakku.com//RDFCal 1.0//EN
X-WR-CALDESC:GoogleカレンダーやiCalendar形式情報を共有シェ
 アしましょう。近所のイベントから全国のイベントま
 で今日のイベント検索やスケジュールを決めるならち
 っくたっく
X-WR-CALNAME:ちっくたっく
X-WR-TIMEZONE:UTC
BEGIN:VEVENT
SUMMARY:税理士・会計士・簿記検定 はじめての会計基準
 〈第3版〉
DTSTART;VALUE=DATE:20260426
DTEND;VALUE=DATE:20260427
UID:886223877064
DESCRIPTION:2026-04-27税理士・会計士・簿記検定 はじめての
 会計基準〈第3版〉並木 秀明中央経済社
LOCATION:
END:VEVENT
END:VCALENDAR
