BEGIN:VCALENDAR
VERSION:2.0
PRODID:-//chikkutakku.com//RDFCal 1.0//EN
X-WR-CALDESC:GoogleカレンダーやiCalendar形式情報を共有シェ
 アしましょう。近所のイベントから全国のイベントま
 で今日のイベント検索やスケジュールを決めるならち
 っくたっく
X-WR-CALNAME:ちっくたっく
X-WR-TIMEZONE:UTC
BEGIN:VEVENT
SUMMARY:YavaS農園『畑をつくる』
DTSTART;VALUE=DATE:20260509
DTEND;VALUE=DATE:20260510
UID:887778573104
DESCRIPTION:ＹａｖａＳ農園の畑仕事ワークショップ。 \n\
 nたからの庭の前庭に作った小さな「たからの畑」で、\
 n○固定種在来種の野菜を無肥料栽培する\n○その時そ
 の日育った野菜ご飯を食べる\n○採れた野菜で保存食や
 調味料を作ってみる\nと、いうことをします。\n\nhttp://t
 akaranoniwa.com/program/yavas.html\n\n\n\n〈日時〉10時半～15時頃\
 n〈場所〉北鎌倉 たからの庭\n〈会費〉6000円(ランチ付)\
 n〈持ち物〉筆記具・ミネラルウォーター・軍手・汚れ
 ても良い服装（着替え可能）・長靴のようなもの・エ
 プロン・手拭きタオルなど\n\nお申し込みはmolo.yavas@gmail
 .com
LOCATION:
END:VEVENT
END:VCALENDAR
