BEGIN:VCALENDAR
VERSION:2.0
PRODID:-//chikkutakku.com//RDFCal 1.0//EN
X-WR-CALDESC:GoogleカレンダーやiCalendar形式情報を共有シェ
 アしましょう。近所のイベントから全国のイベントま
 で今日のイベント検索やスケジュールを決めるならち
 っくたっく
X-WR-CALNAME:ちっくたっく
X-WR-TIMEZONE:UTC
BEGIN:VEVENT
SUMMARY:Private Event All Day (MPC-Gym)
DTSTART;VALUE=DATE:20260504
DTEND;VALUE=DATE:20260505
UID:901703145119
DESCRIPTION:Private Event All Day (MPC-Gym)
LOCATION:
END:VEVENT
END:VCALENDAR
