BEGIN:VCALENDAR
VERSION:2.0
PRODID:-//chikkutakku.com//RDFCal 1.0//EN
X-WR-CALDESC:GoogleカレンダーやiCalendar形式情報を共有シェ
 アしましょう。近所のイベントから全国のイベントま
 で今日のイベント検索やスケジュールを決めるならち
 っくたっく
X-WR-CALNAME:ちっくたっく
X-WR-TIMEZONE:UTC
BEGIN:VEVENT
SUMMARY:「まったり雑談Bar」Barはーみっと
DTSTART;VALUE=DATE-TIME:20260425T130000Z
DTEND;VALUE=DATE-TIME:20260425T143000Z
UID:903410680616
DESCRIPTION:【イベント主催者】\n　ulcyborg\n【イベント内
 容】\n　色々な方と話せる場所・何時でも帰ってこられ
 る場所を目指して作り上げたBarです。\n【イベントジャ
 ンル】\n　VR飲み会\, 初心者向けイベント\, 定期イベン
 ト\n【参加条件（モデル、人数制限など）】\n　・イベ
 ント中フレンド申請×\n・アバター容量は50MBまでにして
 ください。\n・露出、過度なパーティクル、視界ジャッ
 クは禁止です\n・NSFW×（職場でできないようなことはし
 ないという意味です）\n・他のお客様が不快になるよう
 な暴言はしないようにしましょう。\n・一般的な飲食店
 でしないことをしないようにしましょう。\n【参加方法
 】\n　Groupに参加（HRMT.1826）\nGroup＋インスタンスに合流
 \n【備考】\n　https://x.com/BarHermit2025\n開店22:00～\n写真撮
 影23:25～\nアフター(ラフスタイル営業)23:30～00:00\n\n※ア
 フター時のみ、ゲストからのフレンド申請は可能です
 。
LOCATION:
END:VEVENT
END:VCALENDAR
