BEGIN:VCALENDAR
VERSION:2.0
PRODID:-//chikkutakku.com//RDFCal 1.0//EN
X-WR-CALDESC:GoogleカレンダーやiCalendar形式情報を共有シェ
 アしましょう。近所のイベントから全国のイベントま
 で今日のイベント検索やスケジュールを決めるならち
 っくたっく
X-WR-CALNAME:ちっくたっく
X-WR-TIMEZONE:UTC
BEGIN:VEVENT
SUMMARY:お隣の天使様にいつの間にか駄目人間にされてい
 た件2 #4 「天使様とおうちデート」
DTSTART;VALUE=DATE-TIME:20260424T133000Z
DTEND;VALUE=DATE-TIME:20260424T140000Z
UID:905314994433
DESCRIPTION:4 / 天使様とおうちデート / 
LOCATION:Abemaアニメ
END:VEVENT
END:VCALENDAR
