BEGIN:VCALENDAR
VERSION:2.0
PRODID:-//chikkutakku.com//RDFCal 1.0//EN
X-WR-CALDESC:GoogleカレンダーやiCalendar形式情報を共有シェ
 アしましょう。近所のイベントから全国のイベントま
 で今日のイベント検索やスケジュールを決めるならち
 っくたっく
X-WR-CALNAME:ちっくたっく
X-WR-TIMEZONE:UTC
BEGIN:VEVENT
SUMMARY:聴ける！実用法律書 改訂新版 図解で早わかり 社
 会保険・労働保険の基本と手続きがわかる事典
DTSTART;VALUE=DATE:20260421
DTEND;VALUE=DATE:20260422
UID:912150539715
DESCRIPTION:2026-04-22聴ける！実用法律書 改訂新版 図解で
 早わかり 社会保険・労働保険の基本と手続きがわかる
 事典近藤美穂三修社
LOCATION:
END:VEVENT
END:VCALENDAR
