BEGIN:VCALENDAR
VERSION:2.0
PRODID:-//chikkutakku.com//RDFCal 1.0//EN
X-WR-CALDESC:GoogleカレンダーやiCalendar形式情報を共有シェ
 アしましょう。近所のイベントから全国のイベントま
 で今日のイベント検索やスケジュールを決めるならち
 っくたっく
X-WR-CALNAME:ちっくたっく
X-WR-TIMEZONE:UTC
BEGIN:VEVENT
SUMMARY:白昼夢の青写真２【電子特別版】
DTSTART;VALUE=DATE:20260430
DTEND;VALUE=DATE:20260501
UID:913844231368
DESCRIPTION:2026-05-01白昼夢の青写真２【電子特別版】緒乃
 ワサビ/霜降/LaplacianKADOKAWA
LOCATION:
END:VEVENT
END:VCALENDAR
