BEGIN:VCALENDAR
VERSION:2.0
PRODID:-//chikkutakku.com//RDFCal 1.0//EN
X-WR-CALDESC:GoogleカレンダーやiCalendar形式情報を共有シェ
 アしましょう。近所のイベントから全国のイベントま
 で今日のイベント検索やスケジュールを決めるならち
 っくたっく
X-WR-CALNAME:ちっくたっく
X-WR-TIMEZONE:UTC
BEGIN:VEVENT
SUMMARY:初心な没落令嬢はクールな御曹司の甘すぎる恋愛
 指南で奪われました 2
DTSTART;VALUE=DATE:20260518
DTEND;VALUE=DATE:20260519
UID:915070044999
DESCRIPTION:2026-05-19初心な没落令嬢はクールな御曹司の甘
 すぎる恋愛指南で奪われました 2友井美穂/西條六花ハ
 ーパーコリンズ・ジャパン
LOCATION:
END:VEVENT
END:VCALENDAR
