BEGIN:VCALENDAR
VERSION:2.0
PRODID:-//chikkutakku.com//RDFCal 1.0//EN
X-WR-CALDESC:GoogleカレンダーやiCalendar形式情報を共有シェ
 アしましょう。近所のイベントから全国のイベントま
 で今日のイベント検索やスケジュールを決めるならち
 っくたっく
X-WR-CALNAME:ちっくたっく
X-WR-TIMEZONE:UTC
BEGIN:VEVENT
SUMMARY:【楽天ブックス限定先着特典】JUST LIKE THIS 2025 - Hi
 story of Anime -（完全生産限定盤）(品目未定)
DTSTART;VALUE=DATE:20260519
DTEND;VALUE=DATE:20260520
UID:915750535996
DESCRIPTION:2026-05-20【楽天ブックス限定先着特典】JUST LIKE 
 THIS 2025 - History of Anime -（完全生産限定盤）(品目未定)SPY
 AIR(株)ソニー・ミュージックレーベルズ
LOCATION:
END:VEVENT
END:VCALENDAR
