BEGIN:VCALENDAR
VERSION:2.0
PRODID:-//chikkutakku.com//RDFCal 1.0//EN
X-WR-CALDESC:GoogleカレンダーやiCalendar形式情報を共有シェ
 アしましょう。近所のイベントから全国のイベントま
 で今日のイベント検索やスケジュールを決めるならち
 っくたっく
X-WR-CALNAME:ちっくたっく
X-WR-TIMEZONE:UTC
BEGIN:VEVENT
SUMMARY:高知新港で豪華客船お見送り演奏
DTSTART;VALUE=DATE-TIME:20260506T070000Z
DTEND;VALUE=DATE-TIME:20260506T080000Z
UID:917675291775
DESCRIPTION:高知新港で豪華客船のお見送り演奏をします
 。\n16時〜17時の間に15分ほど演奏、17:00出港\n（※時間
 が変わることがあります。）
LOCATION:高知新港
END:VEVENT
END:VCALENDAR
