BEGIN:VCALENDAR
VERSION:2.0
PRODID:-//chikkutakku.com//RDFCal 1.0//EN
X-WR-CALDESC:GoogleカレンダーやiCalendar形式情報を共有シェ
 アしましょう。近所のイベントから全国のイベントま
 で今日のイベント検索やスケジュールを決めるならち
 っくたっく
X-WR-CALNAME:ちっくたっく
X-WR-TIMEZONE:UTC
BEGIN:VEVENT
SUMMARY:異世界に放置ゲー理論を持ち込んだら世界最強に
 なれる説１
DTSTART;VALUE=DATE:20260423
DTEND;VALUE=DATE:20260424
UID:923136148951
DESCRIPTION:2026-04-24異世界に放置ゲー理論を持ち込んだら
 世界最強になれる説１杯雪乃/MIYAKO/フルーツパンチ一二
 三書房
LOCATION:
END:VEVENT
END:VCALENDAR
