BEGIN:VCALENDAR
VERSION:2.0
PRODID:-//chikkutakku.com//RDFCal 1.0//EN
X-WR-CALDESC:GoogleカレンダーやiCalendar形式情報を共有シェ
 アしましょう。近所のイベントから全国のイベントま
 で今日のイベント検索やスケジュールを決めるならち
 っくたっく
X-WR-CALNAME:ちっくたっく
X-WR-TIMEZONE:UTC
BEGIN:VEVENT
SUMMARY:「第15回リュオンくんアバター集会」
DTSTART;VALUE=DATE-TIME:20260425T130000Z
DTEND;VALUE=DATE-TIME:20260425T140000Z
UID:925949248640
DESCRIPTION:【イベント主催者】\n　yomogida_jp\n【イベント
 内容】\n　\n「第15回リュオンくんアバター集会」\n4月25
 日（土）22時〜\nグループ+インスタンス\nリュオンくん
 のアバター交流会イベントです(⁠ ⁠≧⁠Д⁠≦⁠)\n#VR
 chat\n#Ryuon3D\n写真をXに投稿の際は\n#リュオンくんアバタ
 ー集会\nとタグ付けください！\n【イベントジャンル】\
 n　改変アバター交流会\n【参加条件（モデル、人数制
 限など）】\n　マナーとリュオンくんを持ってご参加く
 ださい\n【参加方法】\n　グループ、もしくはyomogida_jp
 にjoin\n【備考】\n　
LOCATION:
END:VEVENT
END:VCALENDAR
