BEGIN:VCALENDAR
VERSION:2.0
PRODID:-//chikkutakku.com//RDFCal 1.0//EN
X-WR-CALDESC:GoogleカレンダーやiCalendar形式情報を共有シェ
 アしましょう。近所のイベントから全国のイベントま
 で今日のイベント検索やスケジュールを決めるならち
 っくたっく
X-WR-CALNAME:ちっくたっく
X-WR-TIMEZONE:UTC
BEGIN:VEVENT
SUMMARY: 万人酒場PC店
DTSTART;VALUE=DATE-TIME:20260424T120000Z
DTEND;VALUE=DATE-TIME:20260424T130000Z
UID:926378627043
DESCRIPTION:【イベント主催者】\n　chanpu\n【イベント内容
 】\n　キャストやお客様同士で雑談をするイベントです
 。毎週水曜日はquest店、毎週金曜日はPC店21時～22時通常
 営業、！不定期でゲームワールドで遊んだりします！
 ！時間がありましてら遊びに来てください！\n【イベン
 トジャンル】\n　VR飲み会\, 店舗系イベント\, 初心者向
 けイベント\, 定期イベント\n【参加条件（モデル、人数
 制限など）】\n　基本誰でも参加しても大丈夫です！版
 権アバター、アバター容量が40Mを超えるアバター及び
 武器や視界ジャックは禁止してます！\n【参加方法】\n
 　グールプ参加のちジョインしてください。\n【備考】
 \n　公式Xのフォローの方もよろしくお願いします\nhttps:
 //x.com/VrcBanninsakaba\nグループコード\nBANJIN.8666
LOCATION:
END:VEVENT
END:VCALENDAR
