BEGIN:VCALENDAR
VERSION:2.0
PRODID:-//chikkutakku.com//RDFCal 1.0//EN
X-WR-CALDESC:GoogleカレンダーやiCalendar形式情報を共有シェ
 アしましょう。近所のイベントから全国のイベントま
 で今日のイベント検索やスケジュールを決めるならち
 っくたっく
X-WR-CALNAME:ちっくたっく
X-WR-TIMEZONE:UTC
BEGIN:VEVENT
SUMMARY:日本近代文学館：「現代日本文学巡礼」フィルム
 全編上映会（2026年4月25日（土）13:00～15:00、講堂）※要
 申し込み
DTSTART;VALUE=DATE:20260424
DTEND;VALUE=DATE:20260425
UID:926412016086
DESCRIPTION:https://bungaku-report.com/blog/2026/04/202642513001500.html
LOCATION:
END:VEVENT
END:VCALENDAR
