BEGIN:VCALENDAR
VERSION:2.0
PRODID:-//chikkutakku.com//RDFCal 1.0//EN
X-WR-CALDESC:GoogleカレンダーやiCalendar形式情報を共有シェ
 アしましょう。近所のイベントから全国のイベントま
 で今日のイベント検索やスケジュールを決めるならち
 っくたっく
X-WR-CALNAME:ちっくたっく
X-WR-TIMEZONE:UTC
BEGIN:VEVENT
SUMMARY:伊藤 蘭 コンサートツアー 2026〜Dance on! Love on!〜
DTSTART;VALUE=DATE:20260516
DTEND;VALUE=DATE:20260517
UID:938984078635
DESCRIPTION:open 14:00 / start 15:00
LOCATION:COMTEC PORTBASE【東海】
END:VEVENT
END:VCALENDAR
