BEGIN:VCALENDAR
VERSION:2.0
PRODID:-//chikkutakku.com//RDFCal 1.0//EN
X-WR-CALDESC:GoogleカレンダーやiCalendar形式情報を共有シェ
 アしましょう。近所のイベントから全国のイベントま
 で今日のイベント検索やスケジュールを決めるならち
 っくたっく
X-WR-CALNAME:ちっくたっく
X-WR-TIMEZONE:UTC
BEGIN:VEVENT
SUMMARY:【Android 対応】ShishaBar Scarlet
DTSTART;VALUE=DATE-TIME:20260422T130000Z
DTEND;VALUE=DATE-TIME:20260422T145900Z
UID:940261140027
DESCRIPTION:【イベント主催者】\n　Hortensie（ホル）\n【イ
 ベント内容】\n　リアルシーシャに詳しい店員がいる雑
 談系シーシャバーです。\nシーシャ初心者も歓迎！\nリ
 アル店舗みたいな雰囲気でシーシャを吸ってまったり
 してみませんか？ \nGroup+開催です。 \n【イベントジャ
 ンル】\n　その他交流会\, VR飲み会\, 店舗系イベント\, 
 定期イベント\n【参加条件（モデル、人数制限など）】
 \n　インスタンス上限は20人、アバターランク制限は無
 しです。\nアバターサイズはダウンロード50MB未満、テ
 クスチャサイズ200MB未満のいずれかを推奨します。\n過
 度なパーティクル・大音量のアバター音声・他人に武
 器を向けるなどの迷惑行為はおやめください。\n【参加
 方法】\n　ShishaBar Scarletのグループ（https://vrc.group/SCERLE.
 6992）に参加後、22時以降にJoin\n【備考】\n　告知用アカ
 ウント：https://x.com/shishascarlet\nグループDiscord：https://dis
 cord.gg/TBvAB8MNhf
LOCATION:
END:VEVENT
END:VCALENDAR
