BEGIN:VCALENDAR
VERSION:2.0
PRODID:-//chikkutakku.com//RDFCal 1.0//EN
X-WR-CALDESC:GoogleカレンダーやiCalendar形式情報を共有シェ
 アしましょう。近所のイベントから全国のイベントま
 で今日のイベント検索やスケジュールを決めるならち
 っくたっく
X-WR-CALNAME:ちっくたっく
X-WR-TIMEZONE:UTC
BEGIN:VEVENT
SUMMARY:やさしい気功
DTSTART;VALUE=DATE:20260423
DTEND;VALUE=DATE:20260424
UID:942937342084
DESCRIPTION:やさしい気功https://kazenomiya.jp/kikou/ゆったりと
 した呼吸をしながら、やさしい気功を行います。自然
 に気血や経絡の流れが整い、健康なからだ作りに役立
 ちます。　導引養生功や健身気功など、さまざまな気
 功をご紹介して参ります。気功が初めての方も、久し
 ぶりの方も、どうぞお気軽にご参加下さい。10:00-11:30、
 12:30-14:00、14:30-16:00（各回90分、レッスン最後の養生茶
 の時間を含みます。定員3名）参加費：3\,000円(回数券で
 2750円)講師：森田典子（導引養生功指導員、健身気功指
 導員、鍼灸師、　　　漢方上級スタイリスト、養生薬
 膳アドバイザー、IFA国際アロマセラピスト）2023年より
 、鎌倉長谷にて、かぜのみや鍼灸院・薬草店を主宰。ht
 tps://kazenomiya.jp＊当日は動きやすい服装でお越しくださ
 い。和室を予約していますが、お天気の日は屋外で行
 う場合もありますので、靴も動きやすいものでお願い
 します。【ご予約】かぜのみやサイトから、《予約ボ
 タン》か、カレンダーのご希望の枠をクリックしてご
 予約ください。予約サイトからの申し込みが難しい場
 合はメール（contact@kazenomiya.jp）でも受付ます。お問い
 合わせもメールでどうぞ。
LOCATION:
END:VEVENT
END:VCALENDAR
