BEGIN:VCALENDAR
VERSION:2.0
PRODID:-//chikkutakku.com//RDFCal 1.0//EN
X-WR-CALDESC:GoogleカレンダーやiCalendar形式情報を共有シェ
 アしましょう。近所のイベントから全国のイベントま
 で今日のイベント検索やスケジュールを決めるならち
 っくたっく
X-WR-CALNAME:ちっくたっく
X-WR-TIMEZONE:UTC
BEGIN:VEVENT
SUMMARY:滝沢ひなのソロイベント
DTSTART;VALUE=DATE:20260511
DTEND;VALUE=DATE:20260512
UID:944756230345
DESCRIPTION:🍣滝沢ひなのソロイベント開催決定🦪\n「す
 しかきリサイタル とってものんびりアコースティック
 ライブ2026」\n\n●5/12(火)\n●下北沢シャングリラ\n●19:00
 /19:30\n歌：滝沢ひなの\nピアノ：ぱやん\nカホン：イト
 ウ"ぼぶ"トモヒコ\nギター：54ROCK\n\n🎫チケット🎫\n(~5/2
  23:59先行抽選受付)\nhttps://t-dv.com/hinano-2026-05-12\n\n滝沢ひ
 なのソロイベント第2回目の開催が決定🎸🎵\nアコース
 ティックでのライブお楽しみに🎤\n\n#ネオジャポ
LOCATION:
END:VEVENT
END:VCALENDAR
