BEGIN:VCALENDAR
VERSION:2.0
PRODID:-//chikkutakku.com//RDFCal 1.0//EN
X-WR-CALDESC:GoogleカレンダーやiCalendar形式情報を共有シェ
 アしましょう。近所のイベントから全国のイベントま
 で今日のイベント検索やスケジュールを決めるならち
 っくたっく
X-WR-CALNAME:ちっくたっく
X-WR-TIMEZONE:UTC
BEGIN:VEVENT
SUMMARY:ウルトラマンニュージェネレーションスターズ(20
 26) #14 「オペレーションドラゴン 黄金の悪魔を攻略せ
 よ」
DTSTART;VALUE=DATE-TIME:20260425T000000Z
DTEND;VALUE=DATE-TIME:20260425T003000Z
UID:945623512110
DESCRIPTION:14 / オペレーションドラゴン 黄金の悪魔を攻
 略せよ / 
LOCATION:テレビ東京
END:VEVENT
END:VCALENDAR
