BEGIN:VCALENDAR
VERSION:2.0
PRODID:-//chikkutakku.com//RDFCal 1.0//EN
X-WR-CALDESC:GoogleカレンダーやiCalendar形式情報を共有シェ
 アしましょう。近所のイベントから全国のイベントま
 で今日のイベント検索やスケジュールを決めるならち
 っくたっく
X-WR-CALNAME:ちっくたっく
X-WR-TIMEZONE:UTC
BEGIN:VEVENT
SUMMARY:申込み 公民館利用６月分　～４月３０日(木)　確
 定日5/1(金)
DTSTART;VALUE=DATE-TIME:20260424T000000Z
DTEND;VALUE=DATE-TIME:20260430T130000Z
UID:949133996983
DESCRIPTION:申込み 公民館利用６月分　～４月３０日(木)
 　確定日5/1(金)
LOCATION:大野公民館
END:VEVENT
END:VCALENDAR
