BEGIN:VCALENDAR
VERSION:2.0
PRODID:-//chikkutakku.com//RDFCal 1.0//EN
X-WR-CALDESC:GoogleカレンダーやiCalendar形式情報を共有シェ
 アしましょう。近所のイベントから全国のイベントま
 で今日のイベント検索やスケジュールを決めるならち
 っくたっく
X-WR-CALNAME:ちっくたっく
X-WR-TIMEZONE:UTC
BEGIN:VEVENT
SUMMARY:【犬カフェ ふれあい接客】ゆうゆうもちかふぇ
 〜いぬいぬだらけの犬カフェ〜ランダム営業
DTSTART;VALUE=DATE-TIME:20260426T131500Z
DTEND;VALUE=DATE-TIME:20260426T141500Z
UID:952185396246
DESCRIPTION:【イベント主催者】\n　七つの天狗-天乃\n【イ
 ベント内容】\n　しば犬モチーフのアバター『いぬいぬ
 」たちが本営業のお店を飛び出して、海の見えるお外
 で悠々自適に遊びまわる触れ合い交流のイベントです
 ！\n\nたいへん！イタズラ好きのうさぎさんがお庭中に
 カラフルのたまごをたくさん隠しちゃったみたい！？\n
 いぬいぬと一緒に探しに行こ♪\n【イベントジャンル】
 \n　その他交流会\, 店舗系イベント\, ロールプレイ\, 初
 心者向けイベント\, 定期イベント\n【参加条件（モデル
 、人数制限など）】\n　・アバター容量40面接MB\n・アバ
 ター身長1.00～1.60\n・版権アバターやR18アバターの使用
 は\n禁止\n詳しくは入口付近の「お願いごと」をご覧下
 さい。\n【参加方法】\n　入退出自由です。\nグループ
 インスタンスにて開催致しますので、お時間になりま
 したらお入りください。\n\n途中参加の方は、スタッフ
 がご案内致しますので入口でお待ちください。\n【備考
 】\n　【グループURL】\nhttps://vrchat.com/home/group/grp_1a6ca4cb-
 bc8b-481f-9952-1db45c0ca704
LOCATION:
END:VEVENT
END:VCALENDAR
