BEGIN:VCALENDAR
VERSION:2.0
PRODID:-//chikkutakku.com//RDFCal 1.0//EN
X-WR-CALDESC:GoogleカレンダーやiCalendar形式情報を共有シェ
 アしましょう。近所のイベントから全国のイベントま
 で今日のイベント検索やスケジュールを決めるならち
 っくたっく
X-WR-CALNAME:ちっくたっく
X-WR-TIMEZONE:UTC
BEGIN:VEVENT
SUMMARY:賢い子が育つ暮らしと住まい７つのルール　賃貸
 でも！　マンションでも！
DTSTART;VALUE=DATE:20260422
DTEND;VALUE=DATE:20260423
UID:953278414833
DESCRIPTION:2026-04-23賢い子が育つ暮らしと住まい７つのル
 ール　賃貸でも！　マンションでも！兼子智美講談社
LOCATION:
END:VEVENT
END:VCALENDAR
