BEGIN:VCALENDAR
VERSION:2.0
PRODID:-//chikkutakku.com//RDFCal 1.0//EN
X-WR-CALDESC:GoogleカレンダーやiCalendar形式情報を共有シェ
 アしましょう。近所のイベントから全国のイベントま
 で今日のイベント検索やスケジュールを決めるならち
 っくたっく
X-WR-CALNAME:ちっくたっく
X-WR-TIMEZONE:UTC
BEGIN:VEVENT
SUMMARY:วันเกิดนางสาวเปมิกา  ขว
 ัญยืน ครู กศน. ตำบลบ้านหนุน 
 อำเภอสอง
DTSTART;VALUE=DATE-TIME:20260505T170000Z
DTEND;VALUE=DATE-TIME:20260506T170000Z
UID:955375861802
DESCRIPTION:วันเกิดนางสาวเปมิกา  ข
 วัญยืน ครู กศน. ตำบลบ้านหนุ
 น อำเภอสอง
LOCATION:
END:VEVENT
END:VCALENDAR
