BEGIN:VCALENDAR
VERSION:2.0
PRODID:-//chikkutakku.com//RDFCal 1.0//EN
X-WR-CALDESC:GoogleカレンダーやiCalendar形式情報を共有シェ
 アしましょう。近所のイベントから全国のイベントま
 で今日のイベント検索やスケジュールを決めるならち
 っくたっく
X-WR-CALNAME:ちっくたっく
X-WR-TIMEZONE:UTC
BEGIN:VEVENT
SUMMARY:WEB Leader Interviews
DTSTART;VALUE=DATE-TIME:20260421T221500Z
DTEND;VALUE=DATE-TIME:20260422T000000Z
UID:955718181860
DESCRIPTION:WEB Leader Interviews
LOCATION:Multi
END:VEVENT
END:VCALENDAR
