BEGIN:VCALENDAR
VERSION:2.0
PRODID:-//chikkutakku.com//RDFCal 1.0//EN
X-WR-CALDESC:GoogleカレンダーやiCalendar形式情報を共有シェ
 アしましょう。近所のイベントから全国のイベントま
 で今日のイベント検索やスケジュールを決めるならち
 っくたっく
X-WR-CALNAME:ちっくたっく
X-WR-TIMEZONE:UTC
BEGIN:VEVENT
SUMMARY:Fukuoka Tech Lab Meetup #1 〜福岡から挑むモビリティ開
 発の裏側〜
DTSTART;VALUE=DATE-TIME:20260421T100000Z
DTEND;VALUE=DATE-TIME:20260421T123000Z
UID:958038992443
DESCRIPTION:https://kinto-technologies.connpass.com/event/388635/
LOCATION:〒810-0041 福岡県福岡市中央区大名二丁目６‐５
 ０福岡大名ガーデンシティ16階
END:VEVENT
END:VCALENDAR
