BEGIN:VCALENDAR
VERSION:2.0
PRODID:-//chikkutakku.com//RDFCal 1.0//EN
X-WR-CALDESC:GoogleカレンダーやiCalendar形式情報を共有シェ
 アしましょう。近所のイベントから全国のイベントま
 で今日のイベント検索やスケジュールを決めるならち
 っくたっく
X-WR-CALNAME:ちっくたっく
X-WR-TIMEZONE:UTC
BEGIN:VEVENT
SUMMARY:第二次段考前二週週六開放假日自習
DTSTART;VALUE=DATE:20260508
DTEND;VALUE=DATE:20260509
UID:959809456548
DESCRIPTION:第二次段考前二週週六開放假日自習
LOCATION:
END:VEVENT
END:VCALENDAR
