BEGIN:VCALENDAR
VERSION:2.0
PRODID:-//chikkutakku.com//RDFCal 1.0//EN
X-WR-CALDESC:GoogleカレンダーやiCalendar形式情報を共有シェ
 アしましょう。近所のイベントから全国のイベントま
 で今日のイベント検索やスケジュールを決めるならち
 っくたっく
X-WR-CALNAME:ちっくたっく
X-WR-TIMEZONE:UTC
BEGIN:VEVENT
SUMMARY:部屋とガラクタと私 (初回生産限定盤 CD＋Blu-ray)
DTSTART;VALUE=DATE:20260512
DTEND;VALUE=DATE:20260513
UID:962268353168
DESCRIPTION:2026-05-13部屋とガラクタと私 (初回生産限定盤 C
 D＋Blu-ray)ミーマイナー(株)ソニー・ミュージックレーベ
 ルズ
LOCATION:
END:VEVENT
END:VCALENDAR
