BEGIN:VCALENDAR
VERSION:2.0
PRODID:-//chikkutakku.com//RDFCal 1.0//EN
X-WR-CALDESC:GoogleカレンダーやiCalendar形式情報を共有シェ
 アしましょう。近所のイベントから全国のイベントま
 で今日のイベント検索やスケジュールを決めるならち
 っくたっく
X-WR-CALNAME:ちっくたっく
X-WR-TIMEZONE:UTC
BEGIN:VEVENT
SUMMARY:House Haka Practice
DTSTART;VALUE=DATE-TIME:20260511T004000Z
DTEND;VALUE=DATE-TIME:20260511T010000Z
UID:962543302689
DESCRIPTION:House Haka Practice
LOCATION:Hall Building-Ground Floor-Assembly Hall (500)
END:VEVENT
END:VCALENDAR
