BEGIN:VCALENDAR
VERSION:2.0
PRODID:-//chikkutakku.com//RDFCal 1.0//EN
X-WR-CALDESC:GoogleカレンダーやiCalendar形式情報を共有シェ
 アしましょう。近所のイベントから全国のイベントま
 で今日のイベント検索やスケジュールを決めるならち
 っくたっく
X-WR-CALNAME:ちっくたっく
X-WR-TIMEZONE:UTC
BEGIN:VEVENT
SUMMARY:資訊素養講座-仇恨言論、假訊息與認知作戰(林園
 高中)
DTSTART;VALUE=DATE-TIME:20260514T110000Z
DTEND;VALUE=DATE-TIME:20260514T120000Z
UID:963016539408
DESCRIPTION:資訊素養講座-仇恨言論、假訊息與認知作戰(林
 園高中)
LOCATION:
END:VEVENT
END:VCALENDAR
