BEGIN:VCALENDAR
VERSION:2.0
PRODID:-//chikkutakku.com//RDFCal 1.0//EN
X-WR-CALDESC:GoogleカレンダーやiCalendar形式情報を共有シェ
 アしましょう。近所のイベントから全国のイベントま
 で今日のイベント検索やスケジュールを決めるならち
 っくたっく
X-WR-CALNAME:ちっくたっく
X-WR-TIMEZONE:UTC
BEGIN:VEVENT
SUMMARY:聖和図 08:50-22:00
DTSTART;VALUE=DATE-TIME:20260423T235000Z
DTEND;VALUE=DATE-TIME:20260424T130059Z
UID:963212183603
DESCRIPTION:聖和図 08:50-22:00
LOCATION:
END:VEVENT
END:VCALENDAR
