BEGIN:VCALENDAR
VERSION:2.0
PRODID:-//chikkutakku.com//RDFCal 1.0//EN
X-WR-CALDESC:GoogleカレンダーやiCalendar形式情報を共有シェ
 アしましょう。近所のイベントから全国のイベントま
 で今日のイベント検索やスケジュールを決めるならち
 っくたっく
X-WR-CALNAME:ちっくたっく
X-WR-TIMEZONE:UTC
BEGIN:VEVENT
SUMMARY:พจ. /ผอ.ส่งเสริมฯ เยี่ยมช
 มผลิตภัณฑ์ใหม่ ตามโครงการ
 พัฒนาผลิตภัณฑ์ OTOP กลุ่ใปรั
 บตัวสู่การพัฒนา (QD) ให้มีคุ
 ณภาพ ณ ห้องพิมานทอง โรงแรม
 พรหมพิมาน
DTSTART;VALUE=DATE-TIME:20260422T043000Z
DTEND;VALUE=DATE-TIME:20260422T053000Z
UID:985898912931
DESCRIPTION:พจ. /ผอ.ส่งเสริมฯ เยี่ยม
 ชมผลิตภัณฑ์ใหม่ ตามโครงกา
 รพัฒนาผลิตภัณฑ์ OTOP กลุ่ใปร
 ับตัวสู่การพัฒนา (QD) ให้มีค
 ุณภาพ ณ ห้องพิมานทอง โรงแร
 มพรหมพิมาน
LOCATION:
END:VEVENT
END:VCALENDAR
