BEGIN:VCALENDAR
VERSION:2.0
PRODID:-//chikkutakku.com//RDFCal 1.0//EN
X-WR-CALDESC:GoogleカレンダーやiCalendar形式情報を共有シェ
 アしましょう。近所のイベントから全国のイベントま
 で今日のイベント検索やスケジュールを決めるならち
 っくたっく
X-WR-CALNAME:ちっくたっく
X-WR-TIMEZONE:UTC
BEGIN:VEVENT
SUMMARY:日テレ「ZIP!」（8:10～ジェシーほか「パンチドラ
 ンク・ウーマン」電波ジャック）
DTSTART;VALUE=DATE-TIME:20260421T205000Z
DTEND;VALUE=DATE-TIME:20260422T000000Z
UID:988288403688
DESCRIPTION:https://x.com/ZIP_TV/status/2046569812328132636
LOCATION:テレビ
END:VEVENT
END:VCALENDAR
