BEGIN:VCALENDAR
VERSION:2.0
PRODID:-//chikkutakku.com//RDFCal 1.0//EN
X-WR-CALDESC:GoogleカレンダーやiCalendar形式情報を共有シェ
 アしましょう。近所のイベントから全国のイベントま
 で今日のイベント検索やスケジュールを決めるならち
 っくたっく
X-WR-CALNAME:ちっくたっく
X-WR-TIMEZONE:UTC
BEGIN:VEVENT
SUMMARY:【初心者歓迎】オカマBARカマイタチ
DTSTART;VALUE=DATE-TIME:20260421T130000Z
DTEND;VALUE=DATE-TIME:20260421T140000Z
UID:988370386017
DESCRIPTION:【イベント主催者】\n　墓田るる\n【イベント
 内容】\n　オカマのキャスト達があなた達をお出迎え！
 \nオカマでもオカマじゃなくてもお出迎え！\n雑談メイ
 ンですがキャストから積極的にお話しますのでコミュ
 障でも無言勢でも大歓迎！\n濃いキャストが揃ってます
 ので本格的なオカマバーの雰囲気も味わえるかも…？\n
 【イベントジャンル】\n　VR飲み会\, 店舗系イベント\, 
 初心者向けイベント\, 定期イベント\n【参加条件（モデ
 ル、人数制限など）】\n　50MB以内のモデル、初心者歓
 迎\n【禁止事項】\n・NSFWに該当する行為\n・2m以上のア
 バターの使用\n・高負荷のパーティクル/視界ジャック
 など営業妨害になりかねない行為\nその他グループ規約
 をお読みください。\n【参加方法】\n　グループに参加
 後、グループインスタンスにjoin\n【備考】\n　https://vrch
 at.com/home/group/grp_b4480079-eae0-4929-8f91-69235e0437c5
LOCATION:
END:VEVENT
END:VCALENDAR
