BEGIN:VCALENDAR
VERSION:2.0
PRODID:-//chikkutakku.com//RDFCal 1.0//EN
X-WR-CALDESC:GoogleカレンダーやiCalendar形式情報を共有シェ
 アしましょう。近所のイベントから全国のイベントま
 で今日のイベント検索やスケジュールを決めるならち
 っくたっく
X-WR-CALNAME:ちっくたっく
X-WR-TIMEZONE:UTC
BEGIN:VEVENT
SUMMARY:地震で死ぬ家、生き残る家（仮） 建築エコノミ
 ストが暴く「命の値段」と「生存の境界線」
DTSTART;VALUE=DATE:20260519
DTEND;VALUE=DATE:20260520
UID:989935205574
DESCRIPTION:2026-05-20地震で死ぬ家、生き残る家（仮） 建築
 エコノミストが暴く「命の値段」と「生存の境界線」
 森山高至双葉社
LOCATION:
END:VEVENT
END:VCALENDAR
