BEGIN:VCALENDAR
VERSION:2.0
PRODID:-//chikkutakku.com//RDFCal 1.0//EN
X-WR-CALDESC:GoogleカレンダーやiCalendar形式情報を共有シェ
 アしましょう。近所のイベントから全国のイベントま
 で今日のイベント検索やスケジュールを決めるならち
 っくたっく
X-WR-CALNAME:ちっくたっく
X-WR-TIMEZONE:UTC
BEGIN:VEVENT
SUMMARY:男をやめてみた～癌になったので女装して恋をす
 ることにしました～ 7【単行本版】
DTSTART;VALUE=DATE:20260522
DTEND;VALUE=DATE:20260523
UID:990872397773
DESCRIPTION:2026-05-23男をやめてみた～癌になったので女装
 して恋をすることにしました～ 7【単行本版】はふみ大
 洋図書
LOCATION:
END:VEVENT
END:VCALENDAR
