BEGIN:VCALENDAR
VERSION:2.0
PRODID:-//chikkutakku.com//RDFCal 1.0//EN
X-WR-CALDESC:GoogleカレンダーやiCalendar形式情報を共有シェ
 アしましょう。近所のイベントから全国のイベントま
 で今日のイベント検索やスケジュールを決めるならち
 っくたっく
X-WR-CALNAME:ちっくたっく
X-WR-TIMEZONE:UTC
BEGIN:VEVENT
SUMMARY:(19時)新作火曜会　天どん・円丈・茶光
DTSTART;VALUE=DATE:20260427
DTEND;VALUE=DATE:20260428
UID:993667544442
DESCRIPTION:出演：三遊亭天どん・三遊亭円丈・笑福亭茶
 光\n開​場18時半　開演19時\n料金：予約2500円（ワンド
 リンク​付）・当日2500円\nご予​約​はらくごカフェ
 まで\nrakugo​cafe@hotm​ail.co.jp　\n電話03-6268-9818（​平日
 ​12時～18時まで）
LOCATION:
END:VEVENT
END:VCALENDAR
