BEGIN:VCALENDAR
VERSION:2.0
PRODID:-//chikkutakku.com//RDFCal 1.0//EN
X-WR-CALDESC:GoogleカレンダーやiCalendar形式情報を共有シェ
 アしましょう。近所のイベントから全国のイベントま
 で今日のイベント検索やスケジュールを決めるならち
 っくたっく
X-WR-CALNAME:ちっくたっく
X-WR-TIMEZONE:UTC
BEGIN:VEVENT
SUMMARY:Football: Curro Halala Cup- Regional Knockouts Round 1
DTSTART;VALUE=DATE:20260416
DTEND;VALUE=DATE:20260419
UID:216425822924
DESCRIPTION:\nMay the following boys please be allowed to leave school tom
 orrow early\, during lesson 6 (11:50) as they will be travelling to Curro 
 Century City to play football. They will miss lesson 7 and know to catch u
 p on all the work they miss. \n\nCarter Bailey \nOliver Prothero \nTiol
 uwani Omotoso \nRobert Gettliffe\nTongai Mlingo \nJuho Kim \nDaniel Kap
 lan \nJoshua Kaplan \nMatthew Watling \nKhumbulani Nongogo\nTiago Hilar
 io \nNicolas Roberts-Meyer \nAlexander Hutchison-Taylor \nMichael Agrel
 a \nAcquilla Chigwedere \nTanatswa Mapanzure \nMicqal Mentoor
LOCATION:Curro Century City High School\, Socrates Way\, Century City\, Ca
 pe Town\, 7442\, South Africa
END:VEVENT
BEGIN:VEVENT
SUMMARY:GOLF: Somerset vs Boland Landbou (A)
DTSTART;VALUE=DATE-TIME:20260420T130000Z
DTEND;VALUE=DATE-TIME:20260420T150000Z
UID:285354410687
DESCRIPTION:GOLF: Somerset vs Boland Landbou (A)
LOCATION:Wellington Golf Club\, Lower\, Pentz Upper St\, Wellington\, 7655
 \, South Africa
END:VEVENT
BEGIN:VEVENT
SUMMARY:CHESS: Somerset vs Mondeor Eco (A)
DTSTART;VALUE=DATE-TIME:20260421T130000Z
DTEND;VALUE=DATE-TIME:20260421T150000Z
UID:327277650884
DESCRIPTION:CHESS: Somerset vs Mondeor Eco (A)
LOCATION:Mondeor Eco School\, 16a Mondeor Rd\, Helderberg Rural\, Cape Tow
 n\, 7135\, South Africa
END:VEVENT
BEGIN:VEVENT
SUMMARY:RUGBY: SomCol Jnrs vs Kraaifontein SS (H)
DTSTART;VALUE=DATE-TIME:20260422T130000Z
DTEND;VALUE=DATE-TIME:20260422T153000Z
UID:442147736989
DESCRIPTION:U14 and U15 rugby teams only
LOCATION:Somerset College\, Bredell Road (off the R44 between Stellenbosch
  and Somerset West\, Somerset West\, Cape Town\, South Africa
END:VEVENT
BEGIN:VEVENT
SUMMARY:Drama | School Play rehearsals
DTSTART;VALUE=DATE:20260421
DTEND;VALUE=DATE:20260422
UID:325576231046
DESCRIPTION:Drama | School Play rehearsals
LOCATION:Boonzaier Hall (middle third)
END:VEVENT
BEGIN:VEVENT
SUMMARY:Old Oaks - Committee Meeting
DTSTART;VALUE=DATE-TIME:20260423T120000Z
DTEND;VALUE=DATE-TIME:20260423T130000Z
UID:214167053332
DESCRIPTION:Old Oaks - Committee Meeting
LOCATION:Online
END:VEVENT
BEGIN:VEVENT
SUMMARY:Senior Hockey Girls: Somerset vs Reddam Constantia (Away)
DTSTART;VALUE=DATE-TIME:20260424T110000Z
DTEND;VALUE=DATE-TIME:20260424T160000Z
UID:184410302629
DESCRIPTION:Senior Hockey Girls: Somerset vs Reddam Constantia (Away)
LOCATION:Reddam House Constantia\, Reddam Ave\, Constantia\, Cape Town\, 7
 806\, South Africa
END:VEVENT
BEGIN:VEVENT
SUMMARY:Drama | School Play rehearsals
DTSTART;VALUE=DATE:20260424
DTEND;VALUE=DATE:20260425
UID:490292422068
DESCRIPTION:Drama | School Play rehearsals
LOCATION:Boonzaier Hall (middle third)
END:VEVENT
BEGIN:VEVENT
SUMMARY:Hockey Boys: Winelands Cup ( U19A and U14A)
DTSTART;VALUE=DATE-TIME:20260425T053000Z
DTEND;VALUE=DATE-TIME:20260427T130000Z
UID:845340933697
DESCRIPTION:Hockey Boys: Winelands Cup ( U19A and U14A)
LOCATION:Maties Hockey\, PSO Club House\, Coetzenberg\, Stellenbosch\, 760
 2\, South Africa
END:VEVENT
BEGIN:VEVENT
SUMMARY:Drama | School Play dress rehearsals
DTSTART;VALUE=DATE-TIME:20260427T140000Z
DTEND;VALUE=DATE-TIME:20260427T170000Z
UID:336402219516
DESCRIPTION:Drama | School Play dress rehearsals
LOCATION:Boonzaier Hall
END:VEVENT
BEGIN:VEVENT
SUMMARY:FREEDOM DAY
DTSTART;VALUE=DATE-TIME:20260426T220000Z
DTEND;VALUE=DATE-TIME:20260427T220000Z
UID:126902932816
DESCRIPTION:FREEDOM DAY
LOCATION:
END:VEVENT
BEGIN:VEVENT
SUMMARY:Drama | School Play rehearsals
DTSTART;VALUE=DATE:20260426
DTEND;VALUE=DATE:20260427
UID:769949715116
DESCRIPTION:Drama | School Play rehearsals
LOCATION:Boonzaier Hall (middle third)
END:VEVENT
BEGIN:VEVENT
SUMMARY:Long weekend
DTSTART;VALUE=DATE:20260424
DTEND;VALUE=DATE:20260427
UID:193044505893
DESCRIPTION:Long weekend
LOCATION:
END:VEVENT
BEGIN:VEVENT
SUMMARY:Hockey Boys: U16 Michael House Festival
DTSTART;VALUE=DATE:20260422
DTEND;VALUE=DATE:20260427
UID:174672290543
DESCRIPTION:Please note that the U16A Hockey Boys will be traveling to Mic
 haelhouse and will be away from the morning of the 23rd until the evening 
 of the 27th. \n\nTeam list:\n\nRomano Gatinho\n\nAidan Rimmer\n\nRuben Zek
 veld\n\nTom Heurlin\n\nJosh Horn\n\nRobbie Evert\n\nMark Pyle\n\nOliver Ha
 arhoff\n\nJoe Chaplin\n\nJoe Moore\n\nSamarth Sreedhar\n\nEben van Wyk\n\n
 Sam Downes\n\nChris Roux\n\nAdam Sulaiman\n\nJames Moss
LOCATION:Michaelhouse\, R103\, Balgowan\, 3275\, South Africa
END:VEVENT
BEGIN:VEVENT
SUMMARY:School Play
DTSTART;VALUE=DATE-TIME:20260428T163000Z
DTEND;VALUE=DATE-TIME:20260428T183000Z
UID:467197649900
DESCRIPTION:JoelKabanghi12/ALAlexanderRust12AmyOberholzer12CaitlinLeybrand
 t12ChloeFrancois12DanielSievwright12IllaydaFaziloglu12JaydayMc Kay12MiaNee
 thling12SophiaHarris12TanatswaMapanzure12AmberWilcox11MaggieYanda11Winston
 Steele11DariaRoeloffs10HannahSmit10OliviaMontzinger10FrancescaMorgan9Caide
 nScholtz8LandonDavids8
LOCATION:Boonzaier Hall
END:VEVENT
BEGIN:VEVENT
SUMMARY:School Play
DTSTART;VALUE=DATE-TIME:20260429T163000Z
DTEND;VALUE=DATE-TIME:20260429T183000Z
UID:291597399862
DESCRIPTION:JoelKabanghi12/ALAlexanderRust12AmyOberholzer12CaitlinLeybrand
 t12ChloeFrancois12DanielSievwright12IllaydaFaziloglu12JaydayMc Kay12MiaNee
 thling12SophiaHarris12TanatswaMapanzure12AmberWilcox11MaggieYanda11Winston
 Steele11DariaRoeloffs10HannahSmit10OliviaMontzinger10FrancescaMorgan9Caide
 nScholtz8LandonDavids8
LOCATION:Boonzaier Hall
END:VEVENT
BEGIN:VEVENT
SUMMARY:School Play
DTSTART;VALUE=DATE-TIME:20260430T123000Z
DTEND;VALUE=DATE-TIME:20260430T143000Z
UID:169770449976
DESCRIPTION:JoelKabanghi12/ALAlexanderRust12AmyOberholzer12CaitlinLeybrand
 t12ChloeFrancois12DanielSievwright12IllaydaFaziloglu12JaydayMc Kay12MiaNee
 thling12SophiaHarris12TanatswaMapanzure12AmberWilcox11MaggieYanda11Winston
 Steele11DariaRoeloffs10HannahSmit10OliviaMontzinger10FrancescaMorgan9Caide
 nScholtz8LandonDavids8
LOCATION:Boonzaier Hall
END:VEVENT
BEGIN:VEVENT
SUMMARY:Senior School Hockey: Belgotex U14 Girls Festival
DTSTART;VALUE=DATE:20260430
DTEND;VALUE=DATE:20260501
UID:141876086239
DESCRIPTION:Senior School Hockey: Belgotex U14 Girls Festival
LOCATION:Paarl Gimnasium\, 416 Main Rd\, Northern Paarl\, Paarl\, 7646\, S
 outh Africa
END:VEVENT
BEGIN:VEVENT
SUMMARY:WORKER'S DAY
DTSTART;VALUE=DATE-TIME:20260430T220000Z
DTEND;VALUE=DATE-TIME:20260501T220000Z
UID:252095447170
DESCRIPTION:WORKER'S DAY
LOCATION:
END:VEVENT
BEGIN:VEVENT
SUMMARY:NETBALL: Drostdy Netball Festival (Donkie Fees)
DTSTART;VALUE=DATE:20260429
DTEND;VALUE=DATE:20260502
UID:223619341175
DESCRIPTION:NETBALL: Drostdy Netball Festival (Donkie Fees)
LOCATION:Drostdy Technical High School\, 40 Somerset St\, Langerug\, Worce
 ster\, 6850\, South Africa
END:VEVENT
BEGIN:VEVENT
SUMMARY:Long weekend
DTSTART;VALUE=DATE:20260430
DTEND;VALUE=DATE:20260503
UID:311417943052
DESCRIPTION:Long weekend
LOCATION:
END:VEVENT
BEGIN:VEVENT
SUMMARY:GOLF: Somerset vs Paarl Gimnasium (H)
DTSTART;VALUE=DATE-TIME:20260504T124000Z
DTEND;VALUE=DATE-TIME:20260504T150000Z
UID:731509556608
DESCRIPTION:GOLF: Somerset vs Paarl Gimnasium (H)
LOCATION:De Zalze Golf Club\, R44\, De Zalze Golf Estate\, Stellenbosch\, 
 7600\, South Africa
END:VEVENT
BEGIN:VEVENT
SUMMARY:CHESS: Somerset vs Parel Vallei (H)
DTSTART;VALUE=DATE-TIME:20260506T130000Z
DTEND;VALUE=DATE-TIME:20260506T150000Z
UID:330876619647
DESCRIPTION:CHESS: Somerset vs Parel Vallei (H)
LOCATION:Somerset College\, Bredell Road (off the R44 between Stellenbosch
  and Somerset West\, Somerset West\, Cape Town\, South Africa
END:VEVENT
BEGIN:VEVENT
SUMMARY:MUSIC | World in Union Concert (Whole school)
DTSTART;VALUE=DATE-TIME:20260506T160000Z
DTEND;VALUE=DATE-TIME:20260506T190000Z
UID:224731434254
DESCRIPTION:WORLD in UNIONJoin the Somerset College Music Department on a 
 musical journey\, seeking unity through harmony.DATE: Wednesday\, 6 May an
 d Thursday\, 7 May 2026TIME: 18:30 – 20:00VENUE: Helderberg GemeenteSome
 rset College invites the community to join them on a musical journey\, Wo
 rld in Union - celebrating unity through harmony in a globally representa
 tive programme. This two-evening event will take place on Wednesday\, 6 Ma
 y and Thursday\, 7 May\, from 18:30 to 20:00 at Helderberg Gemeente.Experi
 ence Prep School and Senior School ensembles\, including choirs\, orchestr
 as\, marimba bands\, jazz bands\, and soloists\, performing favourites suc
 h as From a Distance\, Hot Gates\, The Lion Sleeps Tonight\, Libertango\,
  Africa\, and the finale World in Union.Tickets are available on Quicket
 Bookings link: https://tinyurl.com/4r8kah3t Adults @ R120Students @ R60
 Somerset College Staff @ Free (Only one ticket per person for Wednesday 
 6 May)
LOCATION:Dutch Reformed Church Helderberg\, 82 Firmount Road\, Goede Hoop\
 , Cape Town\, 7130\, South Africa
END:VEVENT
BEGIN:VEVENT
SUMMARY:MUSIC | World in Union Concert (Whole school)
DTSTART;VALUE=DATE-TIME:20260507T160000Z
DTEND;VALUE=DATE-TIME:20260507T190000Z
UID:105766361042
DESCRIPTION:WORLD in UNIONJoin the Somerset College Music Department on a 
 musical journey\, seeking unity through harmony.DATE: Wednesday\, 6 May an
 d Thursday\, 7 May 2026TIME: 18:30 – 20:00VENUE: Helderberg GemeenteSome
 rset College invites the community to join them on a musical journey\, Wo
 rld in Union - celebrating unity through harmony in a globally representa
 tive programme. This two-evening event will take place on Wednesday\, 6 Ma
 y and Thursday\, 7 May\, from 18:30 to 20:00 at Helderberg Gemeente.Experi
 ence Prep School and Senior School ensembles\, including choirs\, orchestr
 as\, marimba bands\, jazz bands\, and soloists\, performing favourites suc
 h as From a Distance\, Hot Gates\, The Lion Sleeps Tonight\, Libertango\,
  Africa\, and the finale World in Union.Tickets are available on Quicket
 Bookings link: https://tinyurl.com/4r8kah3t Adults @ R120Students @ R60
 Somerset College Staff @ Free (Only one ticket per person for Wednesday 
 6 May)
LOCATION:Dutch Reformed Church Helderberg\, 82 Firmount Road\, Goede Hoop\
 , Cape Town\, 7130\, South Africa
END:VEVENT
BEGIN:VEVENT
SUMMARY:Hockey Boys: SC vs Paul Roos
DTSTART;VALUE=DATE-TIME:20260508T120000Z
DTEND;VALUE=DATE-TIME:20260508T150000Z
UID:108628194157
DESCRIPTION:Hockey Boys: SC vs Paul Roos
LOCATION:Paul Roos Gimnasium\, 311 Suidwal Rd\, Krigeville\, Stellenbosch\
 , 7600\, South Africa
END:VEVENT
BEGIN:VEVENT
SUMMARY:Hockey Girls: SC vs Paarl Girls (home)
DTSTART;VALUE=DATE-TIME:20260508T120000Z
DTEND;VALUE=DATE-TIME:20260508T150000Z
UID:290806378519
DESCRIPTION:Hockey Girls: SC vs Paarl Girls (home)
LOCATION:Somerset College\, Bredell Road (off the R44 between Stellenbosch
  and Somerset West\, Somerset West\, Cape Town\, South Africa
END:VEVENT
BEGIN:VEVENT
SUMMARY:NETBALL: SC vs Paarl Girls
DTSTART;VALUE=DATE-TIME:20260508T120000Z
DTEND;VALUE=DATE-TIME:20260508T160000Z
UID:719754329091
DESCRIPTION:NETBALL: SC vs Paarl Girls
LOCATION:Paarl Girls' High School\, 1 High\, Paarl\, Cape Town\, 7646\, So
 uth Africa
END:VEVENT
BEGIN:VEVENT
SUMMARY:Hockey Girls: SC vs Paarl Girls (away)
DTSTART;VALUE=DATE-TIME:20260509T053000Z
DTEND;VALUE=DATE-TIME:20260509T100000Z
UID:158524291980
DESCRIPTION:Hockey Girls: SC vs Paarl Girls (away)
LOCATION:Paarl Girls' High School\, 1 High\, Paarl\, Cape Town\, 7646\, So
 uth Africa
END:VEVENT
BEGIN:VEVENT
SUMMARY:Hockey Boys: SC vs Paul Roos
DTSTART;VALUE=DATE-TIME:20260509T053000Z
DTEND;VALUE=DATE-TIME:20260509T100000Z
UID:266563442851
DESCRIPTION:Hockey Boys: SC vs Paul Roos
LOCATION:Paul Roos Gimnasium\, 311 Suidwal Rd\, Krigeville\, Stellenbosch\
 , 7600\, South Africa
END:VEVENT
BEGIN:VEVENT
SUMMARY:RUGBY: Somerset vs Rangers RFC (H)
DTSTART;VALUE=DATE-TIME:20260509T060000Z
DTEND;VALUE=DATE-TIME:20260509T110000Z
UID:676363195822
DESCRIPTION:RUGBY: Somerset vs Rangers RFC (H)
LOCATION:Somerset College\, Bredell Road (off the R44 between Stellenbosch
  and Somerset West\, Somerset West\, Cape Town\, South Africa
END:VEVENT
BEGIN:VEVENT
SUMMARY:GOLF: Somerset vs Paarl Boys (H)
DTSTART;VALUE=DATE-TIME:20260511T124000Z
DTEND;VALUE=DATE-TIME:20260511T150000Z
UID:150877464836
DESCRIPTION:GOLF: Somerset vs Paarl Boys (H)
LOCATION:De Zalze Golf Club\, R44\, De Zalze Golf Estate\, Stellenbosch\, 
 7600\, South Africa
END:VEVENT
BEGIN:VEVENT
SUMMARY:Parent / Teacher Meetings - Grades 8-12 & Cambridge
DTSTART;VALUE=DATE-TIME:20260511T143000Z
DTEND;VALUE=DATE-TIME:20260511T170000Z
UID:518778095000
DESCRIPTION:Parent / Teacher Meetings - Grades 8-12 & Cambridge
LOCATION:In person - Merlot & Pinotage Classrooms
END:VEVENT
BEGIN:VEVENT
SUMMARY:CHESS: Somerset vs Curro Sitari (A)
DTSTART;VALUE=DATE-TIME:20260512T130000Z
DTEND;VALUE=DATE-TIME:20260512T150000Z
UID:757081158211
DESCRIPTION:CHESS: Somerset vs Curro Sitari (A)
LOCATION:Curro Somerset West\, Sitari Estate\, Sitari Country Estate\, 1 S
 undarbans Dr\, Croydon\, Cape Town\, 7130\, South Africa
END:VEVENT
BEGIN:VEVENT
SUMMARY:tbc Parent / Teacher Meetings - Grades 8-12 & Cambridge 
DTSTART;VALUE=DATE-TIME:20260512T143000Z
DTEND;VALUE=DATE-TIME:20260512T170000Z
UID:328187150865
DESCRIPTION:tbc Parent / Teacher Meetings - Grades 8-12 & Cambridge 
LOCATION:Online
END:VEVENT
BEGIN:VEVENT
SUMMARY:Netball: Somerset vs Strand High (League Fixture)- Away
DTSTART;VALUE=DATE-TIME:20260513T133000Z
DTEND;VALUE=DATE-TIME:20260513T150000Z
UID:118496549917
DESCRIPTION:Netball: Somerset vs Strand High (League Fixture)- Away
LOCATION:
END:VEVENT
BEGIN:VEVENT
SUMMARY:Studio Concert (Kristen Wepener)
DTSTART;VALUE=DATE-TIME:20260514T163000Z
DTEND;VALUE=DATE-TIME:20260514T180000Z
UID:273087695446
DESCRIPTION:Studio Concert (Kristen Wepener)
LOCATION:Chapel
END:VEVENT
BEGIN:VEVENT
SUMMARY:Grade 12 IEB Dramatic Arts PAT
DTSTART;VALUE=DATE-TIME:20260515T053000Z
DTEND;VALUE=DATE-TIME:20260515T104500Z
UID:131349052494
DESCRIPTION:JVA
LOCATION:Flipside
END:VEVENT
BEGIN:VEVENT
SUMMARY:Hockey: SC vs Parel Vallei (All teams)
DTSTART;VALUE=DATE-TIME:20260515T120000Z
DTEND;VALUE=DATE-TIME:20260515T170000Z
UID:870397293820
DESCRIPTION:Hockey: SC vs Parel Vallei (All teams)
LOCATION:Parel Vallei High School\, Parel Valley Rd\, Parel Vallei\, Cape 
 Town\, 7130\, South Africa
END:VEVENT
BEGIN:VEVENT
SUMMARY:Netball: Somerset vs Hottentots Holland High (League Fixture) -Hom
 e
DTSTART;VALUE=DATE-TIME:20260516T053000Z
DTEND;VALUE=DATE-TIME:20260516T090000Z
UID:142776849358
DESCRIPTION:Netball: Somerset vs Hottentots Holland High (League Fixture) 
 -Home
LOCATION:Somerset College
END:VEVENT
BEGIN:VEVENT
SUMMARY:RUGBY: Somerset vs HTS Belville (A)
DTSTART;VALUE=DATE-TIME:20260516T043000Z
DTEND;VALUE=DATE-TIME:20260516T100000Z
UID:324552104768
DESCRIPTION:RUGBY: Somerset vs HTS Belville (A)
LOCATION:Bellville Technical High School\, Strand &\, College Rd\, Labianc
 e\, Cape Town\, 7530\, South Africa
END:VEVENT
BEGIN:VEVENT
SUMMARY:Hockey: SC vs Parel Vallei (All teams)
DTSTART;VALUE=DATE-TIME:20260516T053500Z
DTEND;VALUE=DATE-TIME:20260516T103500Z
UID:874267564340
DESCRIPTION:Hockey: SC vs Parel Vallei (All teams)
LOCATION:Parel Vallei High School\, Parel Valley Rd\, Parel Vallei\, Cape 
 Town\, 7130\, South Africa
END:VEVENT
BEGIN:VEVENT
SUMMARY:GOLF: Somerset vs Parel Vallei (H)
DTSTART;VALUE=DATE-TIME:20260518T124000Z
DTEND;VALUE=DATE-TIME:20260518T150000Z
UID:128654867626
DESCRIPTION:GOLF: Somerset vs Parel Vallei (H)
LOCATION:De Zalze Golf Club\, R44\, De Zalze Golf Estate\, Stellenbosch\, 
 7600\, South Africa
END:VEVENT
BEGIN:VEVENT
SUMMARY:Grade 9 - Trek 2026 Parents Information Evening
DTSTART;VALUE=DATE-TIME:20260519T163000Z
DTEND;VALUE=DATE-TIME:20260519T180000Z
UID:285666520448
DESCRIPTION:Grade 9 - Trek 2026 Parents Information Evening
LOCATION:St Matthew's Chapel
END:VEVENT
END:VCALENDAR
